BEGIN:VCALENDAR
VERSION:2.0
PRODID:-//EFAO - ECPv6.14.2//NONSGML v1.0//EN
CALSCALE:GREGORIAN
METHOD:PUBLISH
X-ORIGINAL-URL:https://efao.ca
X-WR-CALDESC:Events for EFAO
REFRESH-INTERVAL;VALUE=DURATION:PT1H
X-Robots-Tag:noindex
X-PUBLISHED-TTL:PT1H
BEGIN:VTIMEZONE
TZID:America/Toronto
BEGIN:DAYLIGHT
TZOFFSETFROM:-0500
TZOFFSETTO:-0400
TZNAME:EDT
DTSTART:20210314T070000
END:DAYLIGHT
BEGIN:STANDARD
TZOFFSETFROM:-0400
TZOFFSETTO:-0500
TZNAME:EST
DTSTART:20211107T060000
END:STANDARD
END:VTIMEZONE
BEGIN:VEVENT
DTSTART;TZID=America/Toronto:20210323T120000
DTEND;TZID=America/Toronto:20210323T130000
DTSTAMP:20260421T112514
CREATED:20210304T191926Z
LAST-MODIFIED:20210324T170039Z
UID:7210-1616500800-1616504400@efao.ca
SUMMARY:Soil as Relationships
DESCRIPTION:While ecological farmers know more about soil health than many\, this conversation invites us to look at soil health as a series of relationships. In Afro-Indigenous teachings throughout time and place\, the natural world\, including the soil that feeds us\, is not a resource. Soil\, water\, air\, plants\, animals are a series of relationships in which humans have their role\, in a beautiful exchange of nourishment and obligation. Afro-Indigenous teachings and skills highlight the need to tend\, nurture\, and weave to maintain relationships of balance above and below ground.\n\n\n\n  \nUnderstanding soil ecosystems as a web of living relationships can inspire us as growers to cultivate more diverse microbial communities within the soil through practices like increasing plant diversity aboveground\, covering the soil and leaving soil layers intact. De-colonizing our farm practices fosters stronger\, more diverse relationships\, increasing resilience and abundance\, as well as a deeper sense of connection and belonging to the land.\n\n\n\n\n  \n\nFacilitator: Angel Beyde \nAngel is a Black / mixed race grower of food and flowers. An Organic Master Gardener\, educator and facilitator\, Angel has worked in Urban Ag\, eco-landscaping and non-profits for many years. She is passionate about regenerative growing practices as key to food security and community abundance. Angel and her husband Raph are currently looking for rural land with a home to start their organic market garden Good Fortune Farmstead in 2021.
URL:https://efao.ca/event/soil-as-relationships/
LOCATION:Online\, Online via Zoom - link will be sent to registrants
CATEGORIES:Member Month Meet-up
ATTACH;FMTTYPE=image/png:https://efao.ca/wp-content/uploads/MEMBER-MONTH-MEET-UPS_shealand_Social-Media-1.png
END:VEVENT
BEGIN:VEVENT
DTSTART;TZID=America/Toronto:20210316T120000
DTEND;TZID=America/Toronto:20210316T130000
DTSTAMP:20260421T112514
CREATED:20210301T145303Z
LAST-MODIFIED:20210301T145330Z
UID:7167-1615896000-1615899600@efao.ca
SUMMARY:Grazing Cover Crops
DESCRIPTION:Along with her husband Adam and four daughters\, Marie runs a cow/calf beef and sheep farm\, and grow silage corn\, winter wheat\, soybeans along with hay. Marie and Adam have been grazing cover crops since 2017 with the goal of extending the grazing season and improving soil health.\n\n\n\nParticipants will hear from Marie about their experiences (including both challenges and opportunities) grazing cover crops and then participate in a discussion to share their own experiences and questions.\n\n\n\nMember Month Meet-ups are free and open to anyone
URL:https://efao.ca/event/grazing-cover-crops-march-2021/
LOCATION:Online\, Online via Zoom - link will be sent to registrants
CATEGORIES:Member Month Meet-up
ATTACH;FMTTYPE=image/png:https://efao.ca/wp-content/uploads/MEMBER-MONTH-MEET-UPS_shealand.png
END:VEVENT
BEGIN:VEVENT
DTSTART;TZID=America/Toronto:20210309T120000
DTEND;TZID=America/Toronto:20210309T130000
DTSTAMP:20260421T112514
CREATED:20210225T212116Z
LAST-MODIFIED:20210301T144536Z
UID:7146-1615291200-1615294800@efao.ca
SUMMARY:Using Breath as a Tool for Farmer Wellness
DESCRIPTION:Join Bethany of @Tenderfarmer (on Facebook and Instagram) for a virtual meet-up on using the subtle power of the breath to change your relationship to your farm.  Learn about the science of trauma and how it relates to breathing\, learn why meditation and breathwork is good for some and not others\, and learn how to use subtle movement and massage to naturally enhance your breathing through your days.  \n  \nBethany will start with a presentation\, which will be followed by a group conversation facilitated by Bethany regarding Farmer Wellness. \n  \nMember Month Meet-ups are free and open to anyone.
URL:https://efao.ca/event/breath-as-a-tool/
LOCATION:Online\, Online via Zoom - link will be sent to registrants
CATEGORIES:Member Month Meet-up
ATTACH;FMTTYPE=image/png:https://efao.ca/wp-content/uploads/Copy-of-MEMBER-MONTH-MEET-UPS_March-9_Bethany.png
END:VEVENT
END:VCALENDAR